BEGIN:VCALENDAR
VERSION:2.0
CALSCALE:GREGORIAN
PRODID:adamgibbons/ics
METHOD:PUBLISH
X-PUBLISHED-TTL:PT1H
BEGIN:VEVENT
UID:528@tucsontimeline.info
SUMMARY:Sine & Symbol at The Historic Y Main Lobby
DTSTAMP:20260423T063759Z
DTSTART:20260315T003000Z
DESCRIPTION:Saturday March 14th at The Historic Y Main Lobby: Blurrier / Ch
	ristopher Alagna\n/ Feral Claw / Melissa Achten / Ritual Ashing / Tibi Gro
	up. Improvised group\nensemble ft: Abigail Smith\, Aki Widerquist\, Justin
	 Clifford Rhody\, L'Montage\,\nand Teodora Morris. Film screenings from Ju
	stin Clifford Rhody & Abigail Smith\nfor the Sine & Symbol intermedia arts
	 festival. Advance festival pass and full\nlineups at desertdrone.org/sine
	symbol [http://desertdrone.org/sinesymbol]
URL:https://tucsontimeline.info/event/sine-and-symbol-at-the-historic-y-mai
	n-lobby
LOCATION:Historic Y (enter ballroom main level of 5th Ave) - 738 N 5th Ave\
	, Tucson\, AZ 85705
STATUS:CONFIRMED
CATEGORIES:
X-ALT-DESC;FMTTYPE=text/html:<p>Saturday March 14th at The Historic Y Main 
	Lobby: Blurrier / Christopher Alagna / Feral Claw / Melissa Achten / Ritua
	l Ashing / Tibi Group. Improvised group ensemble ft: Abigail Smith, Aki Wi
	derquist, Justin Clifford Rhody, L'Montage, and Teodora Morris. Film scree
	nings from Justin Clifford Rhody &amp; Abigail Smith for the Sine &amp; Sy
	mbol intermedia arts festival. Advance festival pass and full lineups at <
	a target="_blank" href="http://desertdrone.org/sinesymbol">desertdrone.org
	/sinesymbol</a> </p>
END:VEVENT
BEGIN:VEVENT
UID:486@tucsontimeline.info
SUMMARY:Desert Drone at Historic Y
DTSTAMP:20260423T063759Z
DTSTART:20260118T020000Z
DESCRIPTION:Experimental NYC jazz trio Rapid Eye (@daniel.k.rossi\n[https:/
	/www.instagram.com/daniel.k.rossi/] @andresacalxot\n[https://www.instagram
	.com/andresacalxot/] @jan.esbra\n[https://www.instagram.com/jan.esbra/] ) 
	in Tucson January 17th at The Historic\nY Main Lobby. They'll be joined Tu
	cson supergroup Ace Hardware\n(@jeffreygordonevans [https://www.instagram.
	com/jeffreygordonevans/]\n@eternalwheless [https://www.instagram.com/etern
	alwheless/] @greg.saucier\n[https://www.instagram.com/greg.saucier/] @mark
	fergustuff\n[https://www.instagram.com/markfergustuff/] ) and Ryan Chavira
	.\n\n$12 | 7:00pm doors 7:30pm music | all ages | no one turned away for l
	ack of\nfunds\n\nThanks as always to @archivescommune\n[https://www.instag
	ram.com/archivescommune/] for their support at the Historic\nY.
URL:https://tucsontimeline.info/event/desert-drone-at-historic-y
LOCATION:Historic Y (enter ballroom main level of 5th Ave) - 738 N 5th Ave\
	, Tucson\, AZ 85705
STATUS:CONFIRMED
CATEGORIES:music
X-ALT-DESC;FMTTYPE=text/html:<p>Experimental NYC jazz trio Rapid Eye (<a hr
	ef="https://www.instagram.com/daniel.k.rossi/" target="_blank">@daniel.k.r
	ossi</a> <a href="https://www.instagram.com/andresacalxot/" target="_blank
	">@andresacalxot</a> <a href="https://www.instagram.com/jan.esbra/" target
	="_blank">@jan.esbra</a> ) in Tucson January 17th at The Historic Y Main L
	obby. They'll be joined Tucson supergroup Ace Hardware (<a href="https://w
	ww.instagram.com/jeffreygordonevans/" target="_blank">@jeffreygordonevans<
	/a> <a href="https://www.instagram.com/eternalwheless/" target="_blank">@e
	ternalwheless</a> <a href="https://www.instagram.com/greg.saucier/" target
	="_blank">@greg.saucier</a> <a href="https://www.instagram.com/markfergust
	uff/" target="_blank">@markfergustuff</a> ) and Ryan Chavira.<br><br>$12 |
	 7:00pm doors 7:30pm music | all ages | no one turned away for lack of fun
	ds<br><br>Thanks as always to <a href="https://www.instagram.com/archivesc
	ommune/" target="_blank">@archivescommune</a> for their support at the His
	toric Y.</p>
END:VEVENT
BEGIN:VEVENT
UID:408@tucsontimeline.info
SUMMARY:Dreamage at Desert Drone at The Historic Y
DTSTAMP:20260423T063759Z
DTSTART:20251023T020000Z
DESCRIPTION:Desert Drone and the BCC Archives Commune team up Wednesday Oct
	ober 22nd to\npresent a special show in The Historic Y Main Lobby. We’re h
	osting Dreamage\,\naccompanied by Vulture Vault\, and The Listening Choir.
	\n\nDreamage is a new collaborative project from Chris King and Jesse Kees
	 of This\nWill Destroy You. The idea for Dreamage originated in 2018 durin
	g the writing\nsessions for New Others 1 & 2. Kees’ melodic sensibilities 
	shine on tracks like\n“Weeping Window\,” while King’s signature approach t
	o texture and ambience is\nevident in pieces like “Provoke.” With their ne
	w LP Dreamage\, King and Kees\ndelve into the more tender and introspectiv
	e elements of TWDY’s sound\,\nreminiscent of tracks such as “The Puritan” 
	and “They Move on Tracks of\nNever-Ending Light.”\n\nThe Archives Commune 
	is a collective and resource space housed at the Historic\nY\, dedicated t
	o preserving radical history in Arizona-- i.e.\, antiauthoritarian\,\nanti
	fascist\, anticolonial\, queer\, trans and working-class history. The Arch
	ives\nCommune and Desert Drone together are building a collection of exper
	imental\nmusic in Tucson: recordings\, flyers\, set lists\, zines\, photog
	raphs\, ephemera\,\nand oral histories documenting how these scenes create
	 and sustain forms of\ncollective life outside the systems of domination w
	e are currently embedded in.\n\nWe invite contributions of materials now t
	hrough October 22\, culminating in a\nDesert Drone show and exhibit at the
	 Historic Y. The Archives Commune will hold\nan open house from 3-6pm\, wi
	th a focus on the Experimental Archive 6-7pm\, before\nthe music\, where y
	ou can bring items to scan for the digital collection or\ncontribute to th
	e physical one. No donation required to visit the archives\, but\nwe encou
	rage you to donate $12 if you attend the show to support the artists\n(NOT
	AFLOF).
URL:https://tucsontimeline.info/event/dreamage-at-desert-drone-at-the-histo
	ric-y
LOCATION:Historic Y (enter ballroom main level of 5th Ave) - 738 N 5th Ave\
	, Tucson\, AZ 85705
STATUS:CONFIRMED
CATEGORIES:
X-ALT-DESC;FMTTYPE=text/html:<p>Desert Drone and the BCC Archives Commune t
	eam up Wednesday October 22nd to present a special show in The Historic Y 
	Main Lobby. We’re hosting Dreamage, accompanied by Vulture Vault, and The 
	Listening Choir. <br><br>Dreamage is a new collaborative project from Chri
	s King and Jesse Kees of This Will Destroy You. The idea for Dreamage orig
	inated in 2018 during the writing sessions for New Others 1 &amp; 2. Kees’
	 melodic sensibilities shine on tracks like “Weeping Window,” while King’s
	 signature approach to texture and ambience is evident in pieces like “Pro
	voke.” With their new LP Dreamage, King and Kees delve into the more tende
	r and introspective elements of TWDY’s sound, reminiscent of tracks such a
	s “The Puritan” and “They Move on Tracks of Never-Ending Light.”<br><br>Th
	e Archives Commune is a collective and resource space housed at the Histor
	ic Y, dedicated to preserving radical history in Arizona-- i.e., antiautho
	ritarian, antifascist, anticolonial, queer, trans and working-class histor
	y. The Archives Commune and Desert Drone together are building a collectio
	n of experimental music in Tucson: recordings, flyers, set lists, zines, p
	hotographs, ephemera, and oral histories documenting how these scenes crea
	te and sustain forms of collective life outside the systems of domination 
	we are currently embedded in.<br><br>We invite contributions of materials 
	now through October 22, culminating in a Desert Drone show and exhibit at 
	the Historic Y. The Archives Commune will hold an open house from 3-6pm, w
	ith a focus on the Experimental Archive 6-7pm, before the music, where you
	 can bring items to scan for the digital collection or contribute to the p
	hysical one. No donation required to visit the archives, but we encourage 
	you to donate $12 if you attend the show to support the artists (NOTAFLOF)
	.</p>
END:VEVENT
BEGIN:VEVENT
UID:326@tucsontimeline.info
SUMMARY:Desert Drone at the Historic Y
DTSTAMP:20260423T063759Z
DTSTART:20250713T023000Z
DESCRIPTION:Desert Drone presents our first show in the main lobby of the H
	istoric Y\nbuilding. Join us for the tour kickoff for trio Bolt of Void\, 
	joined by\nCompersion and Tucson Duo Project.\n\nWe're excited to bring mu
	sic to such a historic building at 738 N 5th Ave in the\nWest University n
	eighborhood of Tucson.\n\nDoors are at 7:00pm\, $12 entry fee but no one w
	ill be turned away. All Ages.
URL:https://tucsontimeline.info/event/desert-drone-at-the-historic-y
LOCATION:Historic Y (enter ballroom main level of 5th Ave) - 738 N 5th Ave\
	, Tucson\, AZ 85705
STATUS:CONFIRMED
CATEGORIES:
X-ALT-DESC;FMTTYPE=text/html:<p>Desert Drone presents our first show in the
	 main lobby of the Historic Y building. Join us for the tour kickoff for t
	rio Bolt of Void, joined by Compersion and Tucson Duo Project.<br><br>We'r
	e excited to bring music to such a historic building at 738 N 5th Ave in t
	he West University neighborhood of Tucson.<br><br>Doors are at 7:00pm, $12
	 entry fee but no one will be turned away. All Ages.</p>
END:VEVENT
BEGIN:VEVENT
UID:247@tucsontimeline.info
SUMMARY:Open Mic at the Historic Y
DTSTAMP:20260423T063759Z
DTSTART:20250420T210000Z
DTEND:20250420T233000Z
DESCRIPTION:Partnering with the Arizona Author's Association\, Welcome to o
	ur first Open Mic!\n\nAll arts and artists welcome. \nLiterary!  Performan
	ce!  Visual!  Sound!\n\n5-minute slots unless arranged beforehand.\nWe wil
	l try to arrange a sales table for participants.\n\nThe goals:\n\n\nTo giv
	e a place for Tucson’s artistic community to be seen\,\nheard\, and apprec
	iated\;\nTo provide an afternoon of entertainment and fun for all who\ncom
	e to watch\, listen\, and take part\;\n\nTo encourage Culture and the Arts
	 in the Old Pueblo!\n\nThere is no cost. All are welcome.\n\nThe only requ
	irement is mutual respect and support.\n\nStreet parking is available.\n\n
	The lobby is ADA compliant and there are appropriate restrooms.
URL:https://tucsontimeline.info/event/open-mic-at-the-historic-y
LOCATION:Historic Y (enter ballroom main level of 5th Ave) - 738 N 5th Ave\
	, Tucson\, AZ 85705
STATUS:CONFIRMED
CATEGORIES:#poetry #openmic,community,open mic,performance,writing
X-ALT-DESC;FMTTYPE=text/html:<p>Partnering with the Arizona Author's Associ
	ation, Welcome to our first Open Mic!<br><br>All arts and artists welcome.
	&nbsp;<br>Literary!&nbsp; Performance!&nbsp; Visual!&nbsp; Sound!<br><br>5
	-minute slots unless arranged beforehand.<br>We will try to arrange a sale
	s table for participants.<br><br>The goals:</p><p><br>To give a place for 
	Tucson’s artistic community to be seen,<br>heard, and appreciated;<br>To p
	rovide an afternoon of entertainment and fun for all who<br>come to watch,
	 listen, and take part;<br><br>To encourage Culture and the Arts in the Ol
	d Pueblo!<br><br>There is no cost. All are welcome.<br><br>The only requir
	ement is mutual respect and support.<br><br>Street parking is available.<b
	r><br>The lobby is ADA compliant and there are appropriate restrooms.</p>
END:VEVENT
END:VCALENDAR
